BEGIN:VCALENDAR
VERSION:2.0
PRODID:-//wp-events-plugin.com//7.2.3.1//EN
TZID:Europe/Berlin
X-WR-TIMEZONE:Europe/Berlin
BEGIN:VEVENT
UID:11@eintracht-gommern.de
DTSTART;TZID=Europe/Berlin:20260612T140000
DTEND;TZID=Europe/Berlin:20260612T190000
DTSTAMP:20260223T085238Z
URL:https://eintracht-gommern.de/events/stadtmeisterschaften-im-kegeln/
SUMMARY:Stadtmeisterschaften im Kegeln
DESCRIPTION:Auf der Kegelbahn\, Sportforum Gommern
END:VEVENT
BEGIN:VTIMEZONE
TZID:Europe/Berlin
X-LIC-LOCATION:Europe/Berlin
BEGIN:DAYLIGHT
DTSTART:20260329T030000
TZOFFSETFROM:+0100
TZOFFSETTO:+0200
TZNAME:CEST
END:DAYLIGHT
END:VTIMEZONE
END:VCALENDAR